BEGIN:VCALENDAR
VERSION:2.0
PRODID:-//Suriname Online - ECPv6.15.20//NONSGML v1.0//EN
CALSCALE:GREGORIAN
METHOD:PUBLISH
X-ORIGINAL-URL:https://surinameonline.com
X-WR-CALDESC:Evenementen voor Suriname Online
REFRESH-INTERVAL;VALUE=DURATION:PT1H
X-Robots-Tag:noindex
X-PUBLISHED-TTL:PT1H
BEGIN:VTIMEZONE
TZID:America/Sao_Paulo
BEGIN:STANDARD
TZOFFSETFROM:-0300
TZOFFSETTO:-0300
TZNAME:-03
DTSTART:20250101T000000
END:STANDARD
END:VTIMEZONE
BEGIN:VEVENT
DTSTART;TZID=America/Sao_Paulo:20260329T130000
DTEND;TZID=America/Sao_Paulo:20260329T180000
DTSTAMP:20260421T105727
CREATED:20260211T215332Z
LAST-MODIFIED:20260301T201342Z
UID:2489-1774789200-1774807200@surinameonline.com
SUMMARY:KM-Styling Grote Sale
DESCRIPTION:Grote kleding sale in verband met verbouwing! \nWij werken uitsluitend volgens afspraak\, maak gauw uw afspraak via Whatsapp op ons nummer +597-8480464. \nDatum: zondag 29 maart 2026\nTijd: 13:00 – 18:00 uur \nLage prijzen –> contant betalen \nBedrijfsgegevens
URL:https://surinameonline.com/events/km-styling-grote-sale/
LOCATION:KM-Styling\, Leonsberg\, Paramaribo\, Suriname
ATTACH;FMTTYPE=image/webp:https://surinameonline.com/wp-content/uploads/2026/02/Collage_2026-02-11_15_36_37-scaled.webp
END:VEVENT
END:VCALENDAR